{"text_format":"3","workbook":"xlsx","n_sheets":1,"sheets":["Sheet1"],"not_rendered":{"external_links":1,"defined_names":1},"read":"whole","date_system":"1900"}

{"sheet":"Sheet1","index":0,"n_rows":35,"n_cols":6,"rows_kept":35,"merged":[[0,0,0,5]]}
["太原西山产业发展有限公司2025年\n市场化选聘工作人员笔试成绩"]
["排名","报考岗位","准考证号","姓名","笔试成绩","是否进入面试环节"]
["1","财务融资工作人员",{"$f":"VLOOKUP(D3,'[1]报名表(166)'!$A$1:$P$34,16,0)","v":"25051200008"},"李世雄",{"v":57.5,"d":"57.50"},"是"]
[2,"财务融资工作人员",{"$f":"VLOOKUP(D4,'[1]报名表(166)'!$A$1:$P$34,16,0)","v":"25051200032"},"康敏敏",{"v":0,"d":"0.00"},"否"]
[3,"财务融资工作人员",{"$f":"VLOOKUP(D5,'[1]报名表(166)'!$A$1:$P$34,16,0)","v":"25051200029"},"王丽芳",{"v":0,"d":"0.00"},"否"]
[1,"风险防控工作人员",{"$f":"VLOOKUP(D6,'[1]报名表(166)'!$A$1:$P$34,16,0)","v":"25051200007"},"郭宇峰",{"v":55.7,"d":"55.70"},"是"]
[2,"风险防控工作人员",{"$f":"VLOOKUP(D7,'[1]报名表(166)'!$A$1:$P$34,16,0)","v":"25051200001"},"高鸽",{"v":0,"d":"0.00"},"否"]
[3,"风险防控工作人员",{"$f":"VLOOKUP(D8,'[1]报名表(166)'!$A$1:$P$34,16,0)","v":"25051200005"},"滕尧",{"v":0,"d":"0.00"},"否"]
[1,"项目工程工作人员",{"$f":"VLOOKUP(D9,'[1]报名表(166)'!$A$1:$P$34,16,0)","v":"25051200023"},"王立煊",{"v":75,"d":"75.00"},"是"]
[2,"项目工程工作人员",{"$f":"VLOOKUP(D10,'[1]报名表(166)'!$A$1:$P$34,16,0)","v":"25051200034"},"吕健麒",{"v":74.5,"d":"74.50"},"是"]
[3,"项目工程工作人员",{"$f":"VLOOKUP(D11,'[1]报名表(166)'!$A$1:$P$34,16,0)","v":"25051200021"},"任国军",{"v":72.5,"d":"72.50"},"是"]
[4,"项目工程工作人员",{"$f":"VLOOKUP(D12,'[1]报名表(166)'!$A$1:$P$34,16,0)","v":"25051200016"},"李峰",{"v":72,"d":"72.00"},"是"]
[5,"项目工程工作人员",{"$f":"VLOOKUP(D13,'[1]报名表(166)'!$A$1:$P$34,16,0)","v":"25051200006"},"贺亚伟",{"v":70,"d":"70.00"},"是"]
[6,"项目工程工作人员",{"$f":"VLOOKUP(D14,'[1]报名表(166)'!$A$1:$P$34,16,0)","v":"25051200002"},"王燕飞",{"v":70,"d":"70.00"},"是"]
[7,"项目工程工作人员",{"$f":"VLOOKUP(D15,'[1]报名表(166)'!$A$1:$P$34,16,0)","v":"25051200024"},"高慧涵",{"v":69,"d":"69.00"},"是"]
[8,"项目工程工作人员",{"$f":"VLOOKUP(D16,'[1]报名表(166)'!$A$1:$P$34,16,0)","v":"25051200013"},"梁彧杰",{"v":64,"d":"64.00"},"是"]
[9,"项目工程工作人员",{"$f":"VLOOKUP(D17,'[1]报名表(166)'!$A$1:$P$34,16,0)","v":"25051200026"},"刘江",{"v":58.5,"d":"58.50"},"是"]
[10,"项目工程工作人员",{"$f":"VLOOKUP(D18,'[1]报名表(166)'!$A$1:$P$34,16,0)","v":"25051200011"},"闫志伟",{"v":58,"d":"58.00"},"是"]
[11,"项目工程工作人员",{"$f":"VLOOKUP(D19,'[1]报名表(166)'!$A$1:$P$34,16,0)","v":"25051200009"},"李波佯",{"v":57,"d":"57.00"},"是"]
[12,"项目工程工作人员",{"$f":"VLOOKUP(D20,'[1]报名表(166)'!$A$1:$P$34,16,0)","v":"25051200014"},"银川进",{"v":56.5,"d":"56.50"},"是"]
[13,"项目工程工作人员",{"$f":"VLOOKUP(D21,'[1]报名表(166)'!$A$1:$P$34,16,0)","v":"25051200003"},"帅麒",{"v":55,"d":"55.00"},"否"]
[14,"项目工程工作人员",{"$f":"VLOOKUP(D22,'[1]报名表(166)'!$A$1:$P$34,16,0)","v":"25051200017"},"张添",{"v":54,"d":"54.00"},"否"]
[15,"项目工程工作人员",{"$f":"VLOOKUP(D23,'[1]报名表(166)'!$A$1:$P$34,16,0)","v":"25051200030"},"任超群",{"v":51.5,"d":"51.50"},"否"]
[16,"项目工程工作人员",{"$f":"VLOOKUP(D24,'[1]报名表(166)'!$A$1:$P$34,16,0)","v":"25051200028"},"王家钦",{"v":51,"d":"51.00"},"否"]
[17,"项目工程工作人员",{"$f":"VLOOKUP(D25,'[1]报名表(166)'!$A$1:$P$34,16,0)","v":"25051200031"},"李冠蓉",{"v":49,"d":"49.00"},"否"]
[18,"项目工程工作人员",{"$f":"VLOOKUP(D26,'[1]报名表(166)'!$A$1:$P$34,16,0)","v":"25051200004"},"李超",{"v":49,"d":"49.00"},"否"]
[19,"项目工程工作人员",{"$f":"VLOOKUP(D27,'[1]报名表(166)'!$A$1:$P$34,16,0)","v":"25051200015"},"范文斐",{"v":48,"d":"48.00"},"否"]
[20,"项目工程工作人员",{"$f":"VLOOKUP(D28,'[1]报名表(166)'!$A$1:$P$34,16,0)","v":"25051200020"},"李帅",{"v":0,"d":"0.00"},"否"]
[21,"项目工程工作人员",{"$f":"VLOOKUP(D29,'[1]报名表(166)'!$A$1:$P$34,16,0)","v":"25051200027"},"李思敏",{"v":0,"d":"0.00"},"否"]
[1,"招标采购工作人员",{"$f":"VLOOKUP(D30,'[1]报名表(166)'!$A$1:$P$34,16,0)","v":"25051200012"},"康慨",{"v":66.5,"d":"66.50"},"是"]
[2,"招标采购工作人员",{"$f":"VLOOKUP(D31,'[1]报名表(166)'!$A$1:$P$34,16,0)","v":"25051200022"},"苏奕之",{"v":63.5,"d":"63.50"},"是"]
[3,"招标采购工作人员",{"$f":"VLOOKUP(D32,'[1]报名表(166)'!$A$1:$P$34,16,0)","v":"25051200019"},"贾昊霖",{"v":56,"d":"56.00"},"是"]
[4,"招标采购工作人员",{"$f":"VLOOKUP(D33,'[1]报名表(166)'!$A$1:$P$34,16,0)","v":"25051200010"},"丁玲",{"v":49,"d":"49.00"},"否"]
[5,"招标采购工作人员",{"$f":"VLOOKUP(D34,'[1]报名表(166)'!$A$1:$P$34,16,0)","v":"25051200025"},"景冰洁",{"v":0,"d":"0.00"},"否"]
[6,"招标采购工作人员",{"$f":"VLOOKUP(D35,'[1]报名表(166)'!$A$1:$P$34,16,0)","v":"25051200033"},"温策",{"v":0,"d":"0.00"},"否"]